BEGIN:VCALENDAR
VERSION:2.0
PRODID:-//hacksw/handcal//NONSGML v1.0//EN
BEGIN:VEVENT
SUMMARY:Entrainement Seniors U17
UID:561e63a0-ee49-4864-a20c-a50abdc4f490
DTSTART:20260303T181500Z
DTEND:20260303T203000Z
LOCATION:Localisation   
CATEGORIES:Entrainement
STATUS:
URL;VALUE=URI:https://www.ussens.fr/evenements/2026/03/03/entrainement-seniors-u17-2248586
END:VEVENT
END:VCALENDAR
